BEGIN:VCALENDAR
VERSION:2.0
PRODID:-//Cornerstone Ministries - ECPv4.6.22.1//NONSGML v1.0//EN
CALSCALE:GREGORIAN
METHOD:PUBLISH
X-WR-CALNAME:Cornerstone Ministries
X-ORIGINAL-URL:https://cornerstoneministries.ca
X-WR-CALDESC:Events for Cornerstone Ministries
BEGIN:VEVENT
DTSTART;TZID=America/Winnipeg:20230130T173000
DTEND;TZID=America/Winnipeg:20230130T183000
DTSTAMP:20260420T205400
CREATED:20230114T200716Z
LAST-MODIFIED:20230114T200716Z
UID:5860-1675099800-1675103400@cornerstoneministries.ca
SUMMARY:Youth Drive-By Fundraising Meal
DESCRIPTION:The youth kids will be hosting a drive-by meal pick up from Just BeeCuzz Cafe to support their missions trip to Mexico.  Each plate includes smoked brisket\, potato salad\, baked beans\, a dinner roll AND dessert!!  Suggested donation is $20/plate.  Cash or cheques made out to Cornerstone Ministries accepted.   \n**If you can’t make it to the Drive-by Supper\, and would like to donate to the youth group\, monetary donations would be appreciated!  \nOR you could purchase a meal for someone in the community to be delivered by the youth! \n
URL:https://cornerstoneministries.ca/event/youth-drive-by-fundraising-meal/
CATEGORIES:SR Youth
END:VEVENT
END:VCALENDAR