BEGIN:VCALENDAR
VERSION:2.0
PRODID:-//Cornerstone Ministries - ECPv4.6.22.1//NONSGML v1.0//EN
CALSCALE:GREGORIAN
METHOD:PUBLISH
X-WR-CALNAME:Cornerstone Ministries
X-ORIGINAL-URL:https://cornerstoneministries.ca
X-WR-CALDESC:Events for Cornerstone Ministries
BEGIN:VEVENT
DTSTART;TZID=America/Winnipeg:20251214T120000
DTEND;TZID=America/Winnipeg:20251214T150000
DTSTAMP:20260422T001624
CREATED:20251203T172843Z
LAST-MODIFIED:20251203T172843Z
UID:8421-1765713600-1765724400@cornerstoneministries.ca
SUMMARY:Young Adults Potluck
DESCRIPTION:
URL:https://cornerstoneministries.ca/event/young-adults-potluck/
CATEGORIES:Young Adults
END:VEVENT
END:VCALENDAR