BEGIN:VCALENDAR
VERSION:2.0
PRODID:-//Cornerstone Ministries - ECPv4.6.22.1//NONSGML v1.0//EN
CALSCALE:GREGORIAN
METHOD:PUBLISH
X-WR-CALNAME:Cornerstone Ministries
X-ORIGINAL-URL:https://cornerstoneministries.ca
X-WR-CALDESC:Events for Cornerstone Ministries
BEGIN:VEVENT
DTSTART;TZID=America/Winnipeg:20230903T120000
DTEND;TZID=America/Winnipeg:20230903T160000
DTSTAMP:20260419T135152
CREATED:20230826T202817Z
LAST-MODIFIED:20230826T202817Z
UID:6196-1693742400-1693756800@cornerstoneministries.ca
SUMMARY:Young Adults Kickoff
DESCRIPTION:Come down for a meal and fellowship at Andy & Clar’s house.  $10 for pizza lunch right after the church service on September 3rd.  Anyone ages 18-25 is welcome to come to Young Adults. (Typically meets 2 times per month) \n
URL:https://cornerstoneministries.ca/event/young-adults-kickoff/
LOCATION:Andy & Clarissas house
CATEGORIES:Young Adults
END:VEVENT
END:VCALENDAR