BEGIN:VCALENDAR
VERSION:2.0
PRODID:-//Cornerstone Ministries - ECPv4.6.22.1//NONSGML v1.0//EN
CALSCALE:GREGORIAN
METHOD:PUBLISH
X-WR-CALNAME:Cornerstone Ministries
X-ORIGINAL-URL:https://cornerstoneministries.ca
X-WR-CALDESC:Events for Cornerstone Ministries
BEGIN:VEVENT
DTSTART;TZID=America/Winnipeg:20220911T113000
DTEND;TZID=America/Winnipeg:20220911T140000
DTSTAMP:20260423T085850
CREATED:20220907T175402Z
LAST-MODIFIED:20220907T175402Z
UID:5611-1662895800-1662904800@cornerstoneministries.ca
SUMMARY:YFC The Rock Fundraising BBQ
DESCRIPTION:A great time of fellowship with friends and family while supporting The Rock and local youth work.  Come on out to The Rock on September 11th\, 11:30-2:00.  If you are interested in helping bring cookies or brownies\, please contact The Rock at therock@yfc.ca.  \n
URL:https://cornerstoneministries.ca/event/yfc-the-rock-fundraising-bbq/
LOCATION:YFC The Rock\, Pilot Mound\, Manitoba\, R0G1P0\, Canada
CATEGORIES:Community Events
END:VEVENT
END:VCALENDAR