BEGIN:VCALENDAR
VERSION:2.0
PRODID:-//Cornerstone Ministries - ECPv4.6.22.1//NONSGML v1.0//EN
CALSCALE:GREGORIAN
METHOD:PUBLISH
X-WR-CALNAME:Cornerstone Ministries
X-ORIGINAL-URL:https://cornerstoneministries.ca
X-WR-CALDESC:Events for Cornerstone Ministries
BEGIN:VEVENT
DTSTART;TZID=America/Winnipeg:20210620T100000
DTEND;TZID=America/Winnipeg:20210620T120000
DTSTAMP:20260426T013832
CREATED:20210612T205403Z
LAST-MODIFIED:20210612T205554Z
UID:2454-1624183200-1624190400@cornerstoneministries.ca
SUMMARY:Worship Service - YouTube
DESCRIPTION:Watch our service LIVE on YouTube at 10:00 AM. Message by Pastor Jeff – Faithfulness in the New Testament \n
URL:https://cornerstoneministries.ca/event/worship-service-youtube-13/
CATEGORIES:Worship Service
END:VEVENT
END:VCALENDAR