BEGIN:VCALENDAR
VERSION:2.0
PRODID:-//Cornerstone Ministries - ECPv4.6.22.1//NONSGML v1.0//EN
CALSCALE:GREGORIAN
METHOD:PUBLISH
X-WR-CALNAME:Cornerstone Ministries
X-ORIGINAL-URL:https://cornerstoneministries.ca
X-WR-CALDESC:Events for Cornerstone Ministries
BEGIN:VEVENT
DTSTART;TZID=America/Winnipeg:20260308T083000
DTEND;TZID=America/Winnipeg:20260308T120000
DTSTAMP:20260422T161544
CREATED:20250826T140804Z
LAST-MODIFIED:20250826T140804Z
UID:8033-1772958600-1772971200@cornerstoneministries.ca
SUMMARY:Worship Service
DESCRIPTION:
URL:https://cornerstoneministries.ca/event/worship-service-345/
CATEGORIES:Worship Service
END:VEVENT
END:VCALENDAR