BEGIN:VCALENDAR
VERSION:2.0
PRODID:-//Cornerstone Ministries - ECPv4.6.22.1//NONSGML v1.0//EN
CALSCALE:GREGORIAN
METHOD:PUBLISH
X-WR-CALNAME:Cornerstone Ministries
X-ORIGINAL-URL:https://cornerstoneministries.ca
X-WR-CALDESC:Events for Cornerstone Ministries
BEGIN:VEVENT
DTSTART;TZID=America/Winnipeg:20231217T083000
DTEND;TZID=America/Winnipeg:20231217T120000
DTSTAMP:20260423T085942
CREATED:20231118T180352Z
LAST-MODIFIED:20231118T180352Z
UID:6425-1702801800-1702814400@cornerstoneministries.ca
SUMMARY:Worship Service
DESCRIPTION:Prayer Meeting @ 8:30 am \nSunday school @ 9:30 am \nWorship Service @ 10:30 am \n
URL:https://cornerstoneministries.ca/event/worship-service-234/
CATEGORIES:Worship Service
END:VEVENT
END:VCALENDAR