BEGIN:VCALENDAR
VERSION:2.0
PRODID:-//Cornerstone Ministries - ECPv4.6.22.1//NONSGML v1.0//EN
CALSCALE:GREGORIAN
METHOD:PUBLISH
X-WR-CALNAME:Cornerstone Ministries
X-ORIGINAL-URL:https://cornerstoneministries.ca
X-WR-CALDESC:Events for Cornerstone Ministries
BEGIN:VEVENT
DTSTART;TZID=America/Winnipeg:20230507T083000
DTEND;TZID=America/Winnipeg:20230507T120000
DTSTAMP:20260422T085401
CREATED:20230429T162242Z
LAST-MODIFIED:20230429T162242Z
UID:6100-1683448200-1683460800@cornerstoneministries.ca
SUMMARY:Worship Service
DESCRIPTION:Prayer Meeting @ 8:30 a.m. \nSunday school @ 9:30 a.m. \nWorship Service @ 10:30 a.m. \nTurtle Mountain Bible Camp \n  \nThere will be a fellowship meal following the service. Linda Kimber’s group is in charge.  Please bring casseroles\, desserts & drinks. \n
URL:https://cornerstoneministries.ca/event/worship-service-211/
CATEGORIES:Worship Service
END:VEVENT
END:VCALENDAR