BEGIN:VCALENDAR
VERSION:2.0
PRODID:-//Cornerstone Ministries - ECPv4.6.22.1//NONSGML v1.0//EN
CALSCALE:GREGORIAN
METHOD:PUBLISH
X-WR-CALNAME:Cornerstone Ministries
X-ORIGINAL-URL:https://cornerstoneministries.ca
X-WR-CALDESC:Events for Cornerstone Ministries
BEGIN:VEVENT
DTSTART;TZID=America/Winnipeg:20230409T083000
DTEND;TZID=America/Winnipeg:20230409T120000
DTSTAMP:20260422T101746
CREATED:20230325T174045Z
LAST-MODIFIED:20230331T193453Z
UID:6030-1681029000-1681041600@cornerstoneministries.ca
SUMMARY:Worship Service
DESCRIPTION:Prayer Meeting @ 8:30 a.m. \nEaster Breakfast @ 9:00 a.m. \nNo Sunday school \nWorship Service @ 10:30 a.m. \nMessage by Pastor Jeff \nLuke 24 – “Moving from Doubt to Faith” \n
URL:https://cornerstoneministries.ca/event/worship-service-207/
LOCATION:Cornerstone Ministries\, 131 new hope drive\, Crystal City\, manitoba\, r0k 0n0\, Canada
CATEGORIES:Worship Service
END:VEVENT
END:VCALENDAR