BEGIN:VCALENDAR
VERSION:2.0
PRODID:-//Cornerstone Ministries - ECPv4.6.22.1//NONSGML v1.0//EN
CALSCALE:GREGORIAN
METHOD:PUBLISH
X-WR-CALNAME:Cornerstone Ministries
X-ORIGINAL-URL:https://cornerstoneministries.ca
X-WR-CALDESC:Events for Cornerstone Ministries
BEGIN:VEVENT
DTSTART;TZID=America/Winnipeg:20220821T090000
DTEND;TZID=America/Winnipeg:20220821T120000
DTSTAMP:20260423T101119
CREATED:20220703T020128Z
LAST-MODIFIED:20220703T020128Z
UID:5559-1661072400-1661083200@cornerstoneministries.ca
SUMMARY:Worship Service
DESCRIPTION:Prayer Meeting @ 9:00 a.m. \nWorship Service @ 10:00 a.m. \n
URL:https://cornerstoneministries.ca/event/worship-service-175/
LOCATION:Cornerstone Ministries\, 131 new hope drive\, Crystal City\, manitoba\, r0k 0n0\, Canada
CATEGORIES:Worship Service
END:VEVENT
END:VCALENDAR