BEGIN:VCALENDAR
VERSION:2.0
PRODID:-//Cornerstone Ministries - ECPv4.6.22.1//NONSGML v1.0//EN
CALSCALE:GREGORIAN
METHOD:PUBLISH
X-WR-CALNAME:Cornerstone Ministries
X-ORIGINAL-URL:https://cornerstoneministries.ca
X-WR-CALDESC:Events for Cornerstone Ministries
BEGIN:VEVENT
DTSTART;TZID=America/Winnipeg:20220102T103000
DTEND;TZID=America/Winnipeg:20220102T120000
DTSTAMP:20260425T022912
CREATED:20211120T230316Z
LAST-MODIFIED:20211204T233920Z
UID:2826-1641119400-1641124800@cornerstoneministries.ca
SUMMARY:Worship Service
DESCRIPTION:Worship Service @ 10:30 a.m \n
URL:https://cornerstoneministries.ca/event/worship-service-144/
LOCATION:Cornerstone Ministries\, 131 new hope drive\, Crystal City\, manitoba\, r0k 0n0\, Canada
CATEGORIES:Worship Service
END:VEVENT
END:VCALENDAR