BEGIN:VCALENDAR
VERSION:2.0
PRODID:-//Cornerstone Ministries - ECPv4.6.22.1//NONSGML v1.0//EN
CALSCALE:GREGORIAN
METHOD:PUBLISH
X-WR-CALNAME:Cornerstone Ministries
X-ORIGINAL-URL:https://cornerstoneministries.ca
X-WR-CALDESC:Events for Cornerstone Ministries
BEGIN:VEVENT
DTSTART;TZID=America/Winnipeg:20211003T083000
DTEND;TZID=America/Winnipeg:20211003T120000
DTSTAMP:20260425T210144
CREATED:20210925T204735Z
LAST-MODIFIED:20210925T204735Z
UID:2575-1633249800-1633262400@cornerstoneministries.ca
SUMMARY:Worship Service
DESCRIPTION:Prayer Meeting @ 8:30 a.m. Sunday school for ALL ages @ 9:30 a.m. Worship Service @ 10:30 a.m. Message by Pastor Jeff. \n  \n  \n
URL:https://cornerstoneministries.ca/event/worship-service-131/
LOCATION:Cornerstone Ministries\, 131 new hope drive\, Crystal City\, manitoba\, r0k 0n0\, Canada
CATEGORIES:Worship Service
END:VEVENT
END:VCALENDAR