BEGIN:VCALENDAR
VERSION:2.0
PRODID:-//Cornerstone Ministries - ECPv4.6.22.1//NONSGML v1.0//EN
CALSCALE:GREGORIAN
METHOD:PUBLISH
X-WR-CALNAME:Cornerstone Ministries
X-ORIGINAL-URL:https://cornerstoneministries.ca
X-WR-CALDESC:Events for Cornerstone Ministries
BEGIN:VEVENT
DTSTART;TZID=America/Winnipeg:20210912T083000
DTEND;TZID=America/Winnipeg:20210912T120000
DTSTAMP:20260425T175031
CREATED:20210904T154351Z
LAST-MODIFIED:20210904T154351Z
UID:2534-1631435400-1631448000@cornerstoneministries.ca
SUMMARY:Worship Service
DESCRIPTION:Prayer Meeting @ 8:30 a.m. \nSunday school for ALL ages @ 9:30 a.m. \nWorship Service @ 10:30 a.m. \nMessage by Pastor Jeff – Hebrews 2 \n
URL:https://cornerstoneministries.ca/event/worship-service-128/
LOCATION:Cornerstone Ministries\, 131 new hope drive\, Crystal City\, manitoba\, r0k 0n0\, Canada
CATEGORIES:Worship Service
END:VEVENT
END:VCALENDAR