BEGIN:VCALENDAR
VERSION:2.0
PRODID:-//Cornerstone Ministries - ECPv4.6.22.1//NONSGML v1.0//EN
CALSCALE:GREGORIAN
METHOD:PUBLISH
X-WR-CALNAME:Cornerstone Ministries
X-ORIGINAL-URL:https://cornerstoneministries.ca
X-WR-CALDESC:Events for Cornerstone Ministries
BEGIN:VEVENT
DTSTART;TZID=America/Winnipeg:20210808T100000
DTEND;TZID=America/Winnipeg:20210808T120000
DTSTAMP:20260425T205538
CREATED:20210801T005058Z
LAST-MODIFIED:20210801T005058Z
UID:2501-1628416800-1628424000@cornerstoneministries.ca
SUMMARY:Worship Service
DESCRIPTION:Worship service @ 10:00 am.  Watch LIVE on YouTube.  Message by Ryan Smith. \n
URL:https://cornerstoneministries.ca/event/worship-service-124/
LOCATION:Cornerstone Ministries\, 131 new hope drive\, Crystal City\, manitoba\, r0k 0n0\, Canada
CATEGORIES:Worship Service
END:VEVENT
END:VCALENDAR