BEGIN:VCALENDAR
VERSION:2.0
PRODID:-//Cornerstone Ministries - ECPv4.6.22.1//NONSGML v1.0//EN
CALSCALE:GREGORIAN
METHOD:PUBLISH
X-WR-CALNAME:Cornerstone Ministries
X-ORIGINAL-URL:https://cornerstoneministries.ca
X-WR-CALDESC:Events for Cornerstone Ministries
BEGIN:VEVENT
DTSTART;TZID=America/Winnipeg:20210801T100000
DTEND;TZID=America/Winnipeg:20210801T120000
DTSTAMP:20260425T225145
CREATED:20210710T193305Z
LAST-MODIFIED:20210801T004939Z
UID:2488-1627812000-1627819200@cornerstoneministries.ca
SUMMARY:Worship Service
DESCRIPTION:Worship service @ 10:00 am.  Watch LIVE on YouTube.  Message by Pastor Scott. \n
URL:https://cornerstoneministries.ca/event/worship-service-123/
LOCATION:Cornerstone Ministries\, 131 new hope drive\, Crystal City\, manitoba\, r0k 0n0\, Canada
CATEGORIES:Worship Service
END:VEVENT
END:VCALENDAR