BEGIN:VCALENDAR
VERSION:2.0
PRODID:-//Cornerstone Ministries - ECPv4.6.22.1//NONSGML v1.0//EN
CALSCALE:GREGORIAN
METHOD:PUBLISH
X-WR-CALNAME:Cornerstone Ministries
X-ORIGINAL-URL:https://cornerstoneministries.ca
X-WR-CALDESC:Events for Cornerstone Ministries
BEGIN:VEVENT
DTSTART;TZID=America/Winnipeg:20210725T100000
DTEND;TZID=America/Winnipeg:20210725T120000
DTSTAMP:20260426T002510
CREATED:20210710T193200Z
LAST-MODIFIED:20210718T032806Z
UID:2486-1627207200-1627214400@cornerstoneministries.ca
SUMMARY:Worship Service
DESCRIPTION:Worship service @ 10:00 am.  Watch LIVE on YouTube. \nMessage by David Heide – “What is Truth?” \n
URL:https://cornerstoneministries.ca/event/worship-service-122/
LOCATION:Cornerstone Ministries\, 131 new hope drive\, Crystal City\, manitoba\, r0k 0n0\, Canada
CATEGORIES:Worship Service
END:VEVENT
END:VCALENDAR