BEGIN:VCALENDAR
VERSION:2.0
PRODID:-//Cornerstone Ministries - ECPv4.6.22.1//NONSGML v1.0//EN
CALSCALE:GREGORIAN
METHOD:PUBLISH
X-WR-CALNAME:Cornerstone Ministries
X-ORIGINAL-URL:https://cornerstoneministries.ca
X-WR-CALDESC:Events for Cornerstone Ministries
BEGIN:VEVENT
DTSTART;TZID=America/Winnipeg:20210711T100000
DTEND;TZID=America/Winnipeg:20210711T120000
DTSTAMP:20260425T223918
CREATED:20210710T192730Z
LAST-MODIFIED:20210710T192730Z
UID:2482-1625997600-1626004800@cornerstoneministries.ca
SUMMARY:Worship Service
DESCRIPTION:Worship service @ 10:00 am.  Watch LIVE on YouTube.  The sign-up list to come to church is on our Facebook page – there is a 25 person limit. Message by Pastor Andy – Experiencing God’s Graciousness-Living Graciously  – Ephesians 2:1-10 \n
URL:https://cornerstoneministries.ca/event/worship-service-120/
LOCATION:Cornerstone Ministries\, 131 new hope drive\, Crystal City\, manitoba\, r0k 0n0\, Canada
CATEGORIES:Worship Service
END:VEVENT
END:VCALENDAR