BEGIN:VCALENDAR
VERSION:2.0
PRODID:-//Cornerstone Ministries - ECPv4.6.22.1//NONSGML v1.0//EN
CALSCALE:GREGORIAN
METHOD:PUBLISH
X-WR-CALNAME:Cornerstone Ministries
X-ORIGINAL-URL:https://cornerstoneministries.ca
X-WR-CALDESC:Events for Cornerstone Ministries
BEGIN:VEVENT
DTSTART;VALUE=DATE:20230616
DTEND;VALUE=DATE:20230618
DTSTAMP:20260418T031033
CREATED:20230328T183958Z
LAST-MODIFIED:20230328T183958Z
UID:6066-1686873600-1687046399@cornerstoneministries.ca
SUMMARY:Wedding
DESCRIPTION:Charles Friesen wedding booking \nchurch sanctuary\, gym\, and kitchen \nset up on Friday\, June 16\, at 1:00pm.\nrehearsal Friday evening \n
URL:https://cornerstoneministries.ca/event/wedding/
CATEGORIES:Rentals
END:VEVENT
END:VCALENDAR