BEGIN:VCALENDAR
VERSION:2.0
PRODID:-//Cornerstone Ministries - ECPv4.6.22.1//NONSGML v1.0//EN
CALSCALE:GREGORIAN
METHOD:PUBLISH
X-WR-CALNAME:Cornerstone Ministries
X-ORIGINAL-URL:https://cornerstoneministries.ca
X-WR-CALDESC:Events for Cornerstone Ministries
BEGIN:VEVENT
DTSTART;TZID=America/Winnipeg:20210817T183000
DTEND;TZID=America/Winnipeg:20210817T200000
DTSTAMP:20260425T180056
CREATED:20210806T044826Z
LAST-MODIFIED:20210806T044826Z
UID:2512-1629225000-1629230400@cornerstoneministries.ca
SUMMARY:United Church Minister Meet & Greet
DESCRIPTION:Our church is invited to a Meet & Greet with the new United Church minister Chewe Mulenga\, his wife Jessy and daughters Mapalo and Natasha.  It will be held on  Tuesday\, August 17 from 6:30 to 8:00 pm at the Crystal City Park.  Bring lawn chairs. \n
URL:https://cornerstoneministries.ca/event/united-church-minister-meet-greet/
LOCATION:Crystal City Park
CATEGORIES:Community Events
END:VEVENT
END:VCALENDAR