BEGIN:VCALENDAR
VERSION:2.0
PRODID:-//Cornerstone Ministries - ECPv4.6.22.1//NONSGML v1.0//EN
CALSCALE:GREGORIAN
METHOD:PUBLISH
X-WR-CALNAME:Cornerstone Ministries
X-ORIGINAL-URL:https://cornerstoneministries.ca
X-WR-CALDESC:Events for Cornerstone Ministries
BEGIN:VEVENT
DTSTART;TZID=America/Winnipeg:20220604T110000
DTEND;TZID=America/Winnipeg:20220604T190000
DTSTAMP:20260423T064503
CREATED:20220521T161254Z
LAST-MODIFIED:20220521T161254Z
UID:5405-1654340400-1654369200@cornerstoneministries.ca
SUMMARY:TMBC's 75th Anniversary Celebration
DESCRIPTION:\n\n\n\nActivities will start at 11am\, light hotdog lunch will be served from 12-1\, a program from 4-5 and supper at approximately 5:30\, followed by a sing-a-long for anyone interested. Please RSVP on the camp website (tmbc.ca). \n\n\n\n\n
URL:https://cornerstoneministries.ca/event/tmbcs-75th-anniversary-celebration/
CATEGORIES:Special Events
END:VEVENT
END:VCALENDAR