BEGIN:VCALENDAR
VERSION:2.0
PRODID:-//Cornerstone Ministries - ECPv4.6.22.1//NONSGML v1.0//EN
CALSCALE:GREGORIAN
METHOD:PUBLISH
X-WR-CALNAME:Cornerstone Ministries
X-ORIGINAL-URL:https://cornerstoneministries.ca
X-WR-CALDESC:Events for Cornerstone Ministries
BEGIN:VEVENT
DTSTART;TZID=America/Winnipeg:20220522T120000
DTEND;TZID=America/Winnipeg:20220522T123000
DTSTAMP:20260424T053333
CREATED:20220514T151756Z
LAST-MODIFIED:20220514T151756Z
UID:5399-1653220800-1653222600@cornerstoneministries.ca
SUMMARY:The She Wears Worth Conference Information Meeting
DESCRIPTION:Sunday\, May 22 – immediately after church.  Adults & teens invited!! \n\nReview plans for the conference\nDiscuss needs & volunteer opportunities\nTake ideas & feedback\n\n**Should only take 30-45 minutes** \nIf you have any questions or can’t make it\, email courtney@shewearsworth.com or (431)736-1586. \n
URL:https://cornerstoneministries.ca/event/the-she-wears-worth-conference-information-meeting/
LOCATION:Cornerstone Ministries\, 131 new hope drive\, Crystal City\, manitoba\, r0k 0n0\, Canada
CATEGORIES:Meeting
END:VEVENT
END:VCALENDAR