BEGIN:VCALENDAR
VERSION:2.0
PRODID:-//Cornerstone Ministries - ECPv4.6.22.1//NONSGML v1.0//EN
CALSCALE:GREGORIAN
METHOD:PUBLISH
X-WR-CALNAME:Cornerstone Ministries
X-ORIGINAL-URL:https://cornerstoneministries.ca
X-WR-CALDESC:Events for Cornerstone Ministries
BEGIN:VEVENT
DTSTART;TZID=America/Winnipeg:20221016T120000
DTEND;TZID=America/Winnipeg:20221016T140000
DTSTAMP:20260421T080738
CREATED:20221001T160126Z
LAST-MODIFIED:20221001T160126Z
UID:5684-1665921600-1665928800@cornerstoneministries.ca
SUMMARY:Thanksgiving Potluck
DESCRIPTION:Thanksgiving potluck lunch will be on October 16.  Everyone is asked to bring casseroles\, salads\, desserts and drinks.  We will have 40 (plus) additional guests for lunch because we are hosting the Central MB Youth Choir\, so please bring ample sized items\, if you can.  If you are willing to bring a crockpot sized casserole\, please sign the sheet on the back table.  Judi & Dana’s food group is in charge.   \n
URL:https://cornerstoneministries.ca/event/thanksgiving-potluck/
LOCATION:Cornerstone Ministries\, 131 new hope drive\, Crystal City\, manitoba\, r0k 0n0\, Canada
CATEGORIES:Special Events
END:VEVENT
END:VCALENDAR