BEGIN:VCALENDAR
VERSION:2.0
PRODID:-//Cornerstone Ministries - ECPv4.6.22.1//NONSGML v1.0//EN
CALSCALE:GREGORIAN
METHOD:PUBLISH
X-WR-CALNAME:Cornerstone Ministries
X-ORIGINAL-URL:https://cornerstoneministries.ca
X-WR-CALDESC:Events for Cornerstone Ministries
BEGIN:VEVENT
DTSTART;VALUE=DATE:20231003
DTEND;VALUE=DATE:20231004
DTSTAMP:20260419T165134
CREATED:20230826T204123Z
LAST-MODIFIED:20230826T204123Z
UID:6200-1696291200-1696377599@cornerstoneministries.ca
SUMMARY:SWW Never Unnoticed Pop-Up Clothing Event
DESCRIPTION:SHE WEARS WORTH  is hosting their 2nd Never Unnoticed Pop-Up Clothing Event for women & teenage girls and we need your help!  The event will be held at Zara’s Garden in Winkler.  If you’re interested in volunteering and/or donating clothes\, please reach out to Courtney or visit shewearsworth.com/clothingevents.  \n
URL:https://cornerstoneministries.ca/event/sww-never-unnoticed-pop-up-clothing-event/
CATEGORIES:Womens Ministries
END:VEVENT
END:VCALENDAR