BEGIN:VCALENDAR
VERSION:2.0
PRODID:-//Cornerstone Ministries - ECPv4.6.22.1//NONSGML v1.0//EN
CALSCALE:GREGORIAN
METHOD:PUBLISH
X-WR-CALNAME:Cornerstone Ministries
X-ORIGINAL-URL:https://cornerstoneministries.ca
X-WR-CALDESC:Events for Cornerstone Ministries
BEGIN:VEVENT
DTSTART;TZID=America/Winnipeg:20221001T100000
DTEND;TZID=America/Winnipeg:20221001T150000
DTSTAMP:20260421T063812
CREATED:20220910T032600Z
LAST-MODIFIED:20220910T032600Z
UID:5640-1664618400-1664636400@cornerstoneministries.ca
SUMMARY:SWW Conference Work Day
DESCRIPTION:SHE WEARS WORTH Conference Work Day\n– come help with designing decorations\, prepping things for the girls\, praying over attendees\, etc.  Lunch provided. \n
URL:https://cornerstoneministries.ca/event/sww-conference-work-day/
CATEGORIES:Special Events
END:VEVENT
END:VCALENDAR