BEGIN:VCALENDAR
VERSION:2.0
PRODID:-//Cornerstone Ministries - ECPv4.6.22.1//NONSGML v1.0//EN
CALSCALE:GREGORIAN
METHOD:PUBLISH
X-WR-CALNAME:Cornerstone Ministries
X-ORIGINAL-URL:https://cornerstoneministries.ca
X-WR-CALDESC:Events for Cornerstone Ministries
BEGIN:VEVENT
DTSTART;TZID=America/Winnipeg:20221004T183000
DTEND;TZID=America/Winnipeg:20221004T220000
DTSTAMP:20260421T075449
CREATED:20221001T155245Z
LAST-MODIFIED:20221001T155245Z
UID:5663-1664908200-1664920800@cornerstoneministries.ca
SUMMARY:Sr Youth Thanksgiving Supper
DESCRIPTION:Meet at the church at 6:30pm.  Formal wear optional.  Cost is $10. \n
URL:https://cornerstoneministries.ca/event/sr-youth-thanksgiving-supper-2/
LOCATION:Cornerstone Ministries\, 131 new hope drive\, Crystal City\, manitoba\, r0k 0n0\, Canada
CATEGORIES:SR Youth
END:VEVENT
END:VCALENDAR