BEGIN:VCALENDAR
VERSION:2.0
PRODID:-//Cornerstone Ministries - ECPv4.6.22.1//NONSGML v1.0//EN
CALSCALE:GREGORIAN
METHOD:PUBLISH
X-WR-CALNAME:Cornerstone Ministries
X-ORIGINAL-URL:https://cornerstoneministries.ca
X-WR-CALDESC:Events for Cornerstone Ministries
BEGIN:VEVENT
DTSTART;TZID=America/Winnipeg:20220215T193000
DTEND;TZID=America/Winnipeg:20220215T220000
DTSTAMP:20260424T225620
CREATED:20211120T225718Z
LAST-MODIFIED:20211120T225718Z
UID:2820-1644953400-1644962400@cornerstoneministries.ca
SUMMARY:Sr Youth Night
DESCRIPTION:Tuesday night youth! Anyone in Gr 9-12 welcome to come down for a night of bible study\, games\, and hanging out with friends! Guest Speaker- Melissa (Morden YFC)\nParents in Charge- Rob & Kim/ Johan & Cornel\n
URL:https://cornerstoneministries.ca/event/sr-youth-night-71/
LOCATION:Cornerstone Ministries\, 131 new hope drive\, Crystal City\, manitoba\, r0k 0n0\, Canada
CATEGORIES:SR Youth
END:VEVENT
END:VCALENDAR