BEGIN:VCALENDAR
VERSION:2.0
PRODID:-//Cornerstone Ministries - ECPv4.6.22.1//NONSGML v1.0//EN
CALSCALE:GREGORIAN
METHOD:PUBLISH
X-WR-CALNAME:Cornerstone Ministries
X-ORIGINAL-URL:https://cornerstoneministries.ca
X-WR-CALDESC:Events for Cornerstone Ministries
BEGIN:VEVENT
DTSTART;TZID=America/Winnipeg:20211102T193000
DTEND;TZID=America/Winnipeg:20211102T220000
DTSTAMP:20260425T142039
CREATED:20211002T160324Z
LAST-MODIFIED:20211002T160324Z
UID:2612-1635881400-1635890400@cornerstoneministries.ca
SUMMARY:Sr Youth Night
DESCRIPTION:All grade 9-12s are welcome to the church for a fun evening of games\, hanging out & Bible study! \n
URL:https://cornerstoneministries.ca/event/sr-youth-night-60/
LOCATION:Cornerstone Ministries\, 131 new hope drive\, Crystal City\, manitoba\, r0k 0n0\, Canada
CATEGORIES:SR Youth
END:VEVENT
END:VCALENDAR