BEGIN:VCALENDAR
VERSION:2.0
PRODID:-//Cornerstone Ministries - ECPv4.6.22.1//NONSGML v1.0//EN
CALSCALE:GREGORIAN
METHOD:PUBLISH
X-WR-CALNAME:Cornerstone Ministries
X-ORIGINAL-URL:https://cornerstoneministries.ca
X-WR-CALDESC:Events for Cornerstone Ministries
BEGIN:VEVENT
DTSTART;TZID=America/Winnipeg:20210810T193000
DTEND;TZID=America/Winnipeg:20210810T220000
DTSTAMP:20260425T210310
CREATED:20210710T192059Z
LAST-MODIFIED:20210710T192354Z
UID:2479-1628623800-1628632800@cornerstoneministries.ca
SUMMARY:Sr Youth Night
DESCRIPTION: Meet at Andy’s house at 7:30-10:00 for games and a fire. \n
URL:https://cornerstoneministries.ca/event/sr-youth-night-53/
LOCATION:Andy & Clarissas house
CATEGORIES:SR Youth
END:VEVENT
END:VCALENDAR