BEGIN:VCALENDAR
VERSION:2.0
PRODID:-//Cornerstone Ministries - ECPv4.6.22.1//NONSGML v1.0//EN
CALSCALE:GREGORIAN
METHOD:PUBLISH
X-WR-CALNAME:Cornerstone Ministries
X-ORIGINAL-URL:https://cornerstoneministries.ca
X-WR-CALDESC:Events for Cornerstone Ministries
BEGIN:VEVENT
DTSTART;TZID=America/Winnipeg:20210727T193000
DTEND;TZID=America/Winnipeg:20210727T220000
DTSTAMP:20260426T002637
CREATED:20210710T191844Z
LAST-MODIFIED:20210710T191844Z
UID:2474-1627414200-1627423200@cornerstoneministries.ca
SUMMARY:Sr Youth Night
DESCRIPTION:Meet at Vern & Cindy’s house at 7:30-10:00 for games and a fire. \n
URL:https://cornerstoneministries.ca/event/sr-youth-night-52/
LOCATION:Vern & Cindy Reimer’s House
CATEGORIES:SR Youth
END:VEVENT
END:VCALENDAR