BEGIN:VCALENDAR
VERSION:2.0
PRODID:-//Cornerstone Ministries - ECPv4.6.22.1//NONSGML v1.0//EN
CALSCALE:GREGORIAN
METHOD:PUBLISH
X-WR-CALNAME:Cornerstone Ministries
X-ORIGINAL-URL:https://cornerstoneministries.ca
X-WR-CALDESC:Events for Cornerstone Ministries
BEGIN:VEVENT
DTSTART;TZID=America/Winnipeg:20260317T193000
DTEND;TZID=America/Winnipeg:20260317T220000
DTSTAMP:20260422T152704
CREATED:20250826T144136Z
LAST-MODIFIED:20250826T144136Z
UID:8104-1773775800-1773784800@cornerstoneministries.ca
SUMMARY:Sr Youth Night
DESCRIPTION:
URL:https://cornerstoneministries.ca/event/sr-youth-night-225/
CATEGORIES:SR Youth
END:VEVENT
END:VCALENDAR