BEGIN:VCALENDAR
VERSION:2.0
PRODID:-//Cornerstone Ministries - ECPv4.6.22.1//NONSGML v1.0//EN
CALSCALE:GREGORIAN
METHOD:PUBLISH
X-WR-CALNAME:Cornerstone Ministries
X-ORIGINAL-URL:https://cornerstoneministries.ca
X-WR-CALDESC:Events for Cornerstone Ministries
BEGIN:VEVENT
DTSTART;TZID=America/Winnipeg:20231220T193000
DTEND;TZID=America/Winnipeg:20231220T220000
DTSTAMP:20260423T085804
CREATED:20231118T180717Z
LAST-MODIFIED:20231217T050739Z
UID:6436-1703100600-1703109600@cornerstoneministries.ca
SUMMARY:Sr Youth Alumni Night
DESCRIPTION:Graduates from the past year are invited to come down for an alumni night where we will hear from them what God has been doing in their lives.  We will also be having a gingerbread house competition.  \n
URL:https://cornerstoneministries.ca/event/sr-youth-night-134/
CATEGORIES:SR Youth
END:VEVENT
END:VCALENDAR