BEGIN:VCALENDAR
VERSION:2.0
PRODID:-//Cornerstone Ministries - ECPv4.6.22.1//NONSGML v1.0//EN
CALSCALE:GREGORIAN
METHOD:PUBLISH
X-WR-CALNAME:Cornerstone Ministries
X-ORIGINAL-URL:https://cornerstoneministries.ca
X-WR-CALDESC:Events for Cornerstone Ministries
BEGIN:VEVENT
DTSTART;TZID=America/Winnipeg:20231212T193000
DTEND;TZID=America/Winnipeg:20231212T220000
DTSTAMP:20260423T085754
CREATED:20231118T180648Z
LAST-MODIFIED:20231201T160025Z
UID:6434-1702409400-1702418400@cornerstoneministries.ca
SUMMARY:Sr Youth Carolling
DESCRIPTION:We will be spending the evening carolling around our community.  Dress warm! \n
URL:https://cornerstoneministries.ca/event/sr-youth-night-133/
CATEGORIES:SR Youth
END:VEVENT
END:VCALENDAR