BEGIN:VCALENDAR
VERSION:2.0
PRODID:-//Cornerstone Ministries - ECPv4.6.22.1//NONSGML v1.0//EN
CALSCALE:GREGORIAN
METHOD:PUBLISH
X-WR-CALNAME:Cornerstone Ministries
X-ORIGINAL-URL:https://cornerstoneministries.ca
X-WR-CALDESC:Events for Cornerstone Ministries
BEGIN:VEVENT
DTSTART;TZID=America/Winnipeg:20231010T193000
DTEND;TZID=America/Winnipeg:20231010T220000
DTSTAMP:20260419T120258
CREATED:20230923T215353Z
LAST-MODIFIED:20230923T215353Z
UID:6272-1696966200-1696975200@cornerstoneministries.ca
SUMMARY:Sr Youth Night
DESCRIPTION:
URL:https://cornerstoneministries.ca/event/sr-youth-night-124/
LOCATION:Cornerstone Ministries\, 131 new hope drive\, Crystal City\, manitoba\, r0k 0n0\, Canada
CATEGORIES:SR Youth
END:VEVENT
END:VCALENDAR