BEGIN:VCALENDAR
VERSION:2.0
PRODID:-//Cornerstone Ministries - ECPv4.6.22.1//NONSGML v1.0//EN
CALSCALE:GREGORIAN
METHOD:PUBLISH
X-WR-CALNAME:Cornerstone Ministries
X-ORIGINAL-URL:https://cornerstoneministries.ca
X-WR-CALDESC:Events for Cornerstone Ministries
BEGIN:VEVENT
DTSTART;TZID=America/Winnipeg:20230606T193000
DTEND;TZID=America/Winnipeg:20230606T220000
DTSTAMP:20260420T054301
CREATED:20230620T134632Z
LAST-MODIFIED:20230620T134632Z
UID:6145-1686079800-1686088800@cornerstoneministries.ca
SUMMARY:Sr Youth Night
DESCRIPTION:Anyone in grade 9-12 welcome to come down for a night of Bible study\, games\, and hanging out with friends \n
URL:https://cornerstoneministries.ca/event/sr-youth-night-118/
LOCATION:Cornerstone Ministries\, 131 new hope drive\, Crystal City\, manitoba\, r0k 0n0\, Canada
CATEGORIES:SR Youth
END:VEVENT
END:VCALENDAR