BEGIN:VCALENDAR
VERSION:2.0
PRODID:-//Cornerstone Ministries - ECPv4.6.22.1//NONSGML v1.0//EN
CALSCALE:GREGORIAN
METHOD:PUBLISH
X-WR-CALNAME:Cornerstone Ministries
X-ORIGINAL-URL:https://cornerstoneministries.ca
X-WR-CALDESC:Events for Cornerstone Ministries
BEGIN:VEVENT
DTSTART;TZID=America/Winnipeg:20230131T193000
DTEND;TZID=America/Winnipeg:20230131T220000
DTSTAMP:20260420T221520
CREATED:20230107T061527Z
LAST-MODIFIED:20230107T061527Z
UID:5820-1675193400-1675202400@cornerstoneministries.ca
SUMMARY:Sr Youth Night
DESCRIPTION:Anyone in grade 9-12 welcome to come down for a night of Bible study\, games\, and hanging out with friends \n
URL:https://cornerstoneministries.ca/event/sr-youth-night-101/
LOCATION:Cornerstone Ministries\, 131 new hope drive\, Crystal City\, manitoba\, r0k 0n0\, Canada
CATEGORIES:SR Youth
END:VEVENT
END:VCALENDAR