BEGIN:VCALENDAR
VERSION:2.0
PRODID:-//Cornerstone Ministries - ECPv4.6.22.1//NONSGML v1.0//EN
CALSCALE:GREGORIAN
METHOD:PUBLISH
X-WR-CALNAME:Cornerstone Ministries
X-ORIGINAL-URL:https://cornerstoneministries.ca
X-WR-CALDESC:Events for Cornerstone Ministries
BEGIN:VEVENT
DTSTART;TZID=America/Winnipeg:20230912T193000
DTEND;TZID=America/Winnipeg:20230912T220000
DTSTAMP:20260419T141642
CREATED:20230826T202617Z
LAST-MODIFIED:20230826T202617Z
UID:6192-1694547000-1694556000@cornerstoneministries.ca
SUMMARY:Sr Youth Kickoff
DESCRIPTION:BOX MAZE NIGHT!!  The box maze is back and better than ever!  Anyone in grades 9-12 is invited to come for an evening of getting lost in one of the biggest box mazes you’ve ever set your eyes on!  Invite your friends!! \n
URL:https://cornerstoneministries.ca/event/sr-youth-kickoff-7/
LOCATION:Cornerstone Ministries\, 131 new hope drive\, Crystal City\, manitoba\, r0k 0n0\, Canada
CATEGORIES:SR Youth
END:VEVENT
END:VCALENDAR