BEGIN:VCALENDAR
VERSION:2.0
PRODID:-//Cornerstone Ministries - ECPv4.6.22.1//NONSGML v1.0//EN
CALSCALE:GREGORIAN
METHOD:PUBLISH
X-WR-CALNAME:Cornerstone Ministries
X-ORIGINAL-URL:https://cornerstoneministries.ca
X-WR-CALDESC:Events for Cornerstone Ministries
BEGIN:VEVENT
DTSTART;TZID=America/Winnipeg:20210914T160000
DTEND;TZID=America/Winnipeg:20210914T210000
DTSTAMP:20260425T192426
CREATED:20210904T154455Z
LAST-MODIFIED:20210904T154455Z
UID:2536-1631635200-1631653200@cornerstoneministries.ca
SUMMARY:Sr Youth Kickoff
DESCRIPTION:Sr. Youth will be kicking off on Tuesday\, September 14.  We will be heading to Meadows Amusement Park in Winkler.  We will be leaving the church at 4:00pm and returning at 9:00pm.  Bring $15 for supper and go-carting. \n
URL:https://cornerstoneministries.ca/event/sr-youth-kickoff-5/
CATEGORIES:SR Youth
END:VEVENT
END:VCALENDAR