BEGIN:VCALENDAR
VERSION:2.0
PRODID:-//Cornerstone Ministries - ECPv4.6.22.1//NONSGML v1.0//EN
CALSCALE:GREGORIAN
METHOD:PUBLISH
X-WR-CALNAME:Cornerstone Ministries
X-ORIGINAL-URL:https://cornerstoneministries.ca
X-WR-CALDESC:Events for Cornerstone Ministries
BEGIN:VEVENT
DTSTART;TZID=America/Winnipeg:20220503T173000
DTEND;TZID=America/Winnipeg:20220503T220000
DTSTAMP:20260423T215553
CREATED:20220423T205133Z
LAST-MODIFIED:20220423T205133Z
UID:5038-1651599000-1651615200@cornerstoneministries.ca
SUMMARY:Sr Youth Bowling Night!
DESCRIPTION:Sr Youth are going bowling in Winkler!  Meet at the church at 5:30 and we will be back at 10:00.  Cost is $15 plus snack money for McDonalds after. \n
URL:https://cornerstoneministries.ca/event/sr-youth-bowling-night/
CATEGORIES:SR Youth
END:VEVENT
END:VCALENDAR