BEGIN:VCALENDAR
VERSION:2.0
PRODID:-//Cornerstone Ministries - ECPv4.6.22.1//NONSGML v1.0//EN
CALSCALE:GREGORIAN
METHOD:PUBLISH
X-WR-CALNAME:Cornerstone Ministries
X-ORIGINAL-URL:https://cornerstoneministries.ca
X-WR-CALDESC:Events for Cornerstone Ministries
BEGIN:VEVENT
DTSTART;TZID=America/Winnipeg:20221220T193000
DTEND;TZID=America/Winnipeg:20221220T220000
DTSTAMP:20260420T192055
CREATED:20221119T191310Z
LAST-MODIFIED:20221119T191310Z
UID:5758-1671564600-1671573600@cornerstoneministries.ca
SUMMARY:Sr Youth Alumni Night
DESCRIPTION:Youth grads from the past 2 years come back to youth to share what God has been doing in their lives. \n
URL:https://cornerstoneministries.ca/event/sr-youth-alumni-night-4/
LOCATION:Cornerstone Ministries\, 131 new hope drive\, Crystal City\, manitoba\, r0k 0n0\, Canada
CATEGORIES:SR Youth
END:VEVENT
END:VCALENDAR