BEGIN:VCALENDAR
VERSION:2.0
PRODID:-//Cornerstone Ministries - ECPv4.6.22.1//NONSGML v1.0//EN
CALSCALE:GREGORIAN
METHOD:PUBLISH
X-WR-CALNAME:Cornerstone Ministries
X-ORIGINAL-URL:https://cornerstoneministries.ca
X-WR-CALDESC:Events for Cornerstone Ministries
BEGIN:VEVENT
DTSTART;TZID=America/Winnipeg:20230417T090000
DTEND;TZID=America/Winnipeg:20230417T170000
DTSTAMP:20260420T101159
CREATED:20230415T031738Z
LAST-MODIFIED:20230415T031738Z
UID:6087-1681722000-1681750800@cornerstoneministries.ca
SUMMARY:Spring Cleaning
DESCRIPTION:
URL:https://cornerstoneministries.ca/event/spring-cleaning/
LOCATION:Cornerstone Ministries\, 131 new hope drive\, Crystal City\, manitoba\, r0k 0n0\, Canada
CATEGORIES:Special Events
END:VEVENT
END:VCALENDAR