BEGIN:VCALENDAR
VERSION:2.0
PRODID:-//Cornerstone Ministries - ECPv4.6.22.1//NONSGML v1.0//EN
CALSCALE:GREGORIAN
METHOD:PUBLISH
X-WR-CALNAME:Cornerstone Ministries
X-ORIGINAL-URL:https://cornerstoneministries.ca
X-WR-CALDESC:Events for Cornerstone Ministries
BEGIN:VEVENT
DTSTART;TZID=America/Winnipeg:20230913T154500
DTEND;TZID=America/Winnipeg:20230913T171500
DTSTAMP:20260419T152314
CREATED:20230903T052812Z
LAST-MODIFIED:20230903T052812Z
UID:6232-1694619900-1694625300@cornerstoneministries.ca
SUMMARY:Quest Kickoff
DESCRIPTION:\n\n\n\nBOX MAZE!! Anyone in grades 4-6 is welcome! Heather Friesen will be walking with the kids to church from TGMS after school. Invite your friends!! \n\n\n\n\n
URL:https://cornerstoneministries.ca/event/quest-kickoff-3/
CATEGORIES:Quest
END:VEVENT
END:VCALENDAR