BEGIN:VCALENDAR
VERSION:2.0
PRODID:-//Cornerstone Ministries - ECPv4.6.22.1//NONSGML v1.0//EN
CALSCALE:GREGORIAN
METHOD:PUBLISH
X-WR-CALNAME:Cornerstone Ministries
X-ORIGINAL-URL:https://cornerstoneministries.ca
X-WR-CALDESC:Events for Cornerstone Ministries
BEGIN:VEVENT
DTSTART;TZID=America/Winnipeg:20230920T154500
DTEND;TZID=America/Winnipeg:20230920T171500
DTSTAMP:20260419T095017
CREATED:20230909T025858Z
LAST-MODIFIED:20230909T025858Z
UID:6253-1695224700-1695230100@cornerstoneministries.ca
SUMMARY:Quest
DESCRIPTION:
URL:https://cornerstoneministries.ca/event/quest-28/
LOCATION:Cornerstone Ministries\, 131 new hope drive\, Crystal City\, manitoba\, r0k 0n0\, Canada
CATEGORIES:Quest
END:VEVENT
END:VCALENDAR