BEGIN:VCALENDAR
VERSION:2.0
PRODID:-//Cornerstone Ministries - ECPv4.6.22.1//NONSGML v1.0//EN
CALSCALE:GREGORIAN
METHOD:PUBLISH
X-WR-CALNAME:Cornerstone Ministries
X-ORIGINAL-URL:https://cornerstoneministries.ca
X-WR-CALDESC:Events for Cornerstone Ministries
BEGIN:VEVENT
DTSTART;TZID=America/Winnipeg:20230426T154500
DTEND;TZID=America/Winnipeg:20230426T190000
DTSTAMP:20260422T101516
CREATED:20230325T175209Z
LAST-MODIFIED:20230415T031557Z
UID:6055-1682523900-1682535600@cornerstoneministries.ca
SUMMARY:Quest Wind-Up
DESCRIPTION:Quest Wind-Up at The Rock!  Bussing from the church at 3:45pm.  Pizza supper.  Pick up at The Rock at 7:00pm. \n
URL:https://cornerstoneministries.ca/event/quest-27/
CATEGORIES:Quest
END:VEVENT
END:VCALENDAR