BEGIN:VCALENDAR
VERSION:2.0
PRODID:-//Cornerstone Ministries - ECPv4.6.22.1//NONSGML v1.0//EN
CALSCALE:GREGORIAN
METHOD:PUBLISH
X-WR-CALNAME:Cornerstone Ministries
X-ORIGINAL-URL:https://cornerstoneministries.ca
X-WR-CALDESC:Events for Cornerstone Ministries
BEGIN:VEVENT
DTSTART;TZID=America/Winnipeg:20230215T154500
DTEND;TZID=America/Winnipeg:20230215T171500
DTSTAMP:20260420T175651
CREATED:20230107T062917Z
LAST-MODIFIED:20230107T062917Z
UID:5854-1676475900-1676481300@cornerstoneministries.ca
SUMMARY:Quest
DESCRIPTION:Anyone in grade 4-6 welcome to come down for a fun time of Bible study\, games\, and hanging out with friends \n
URL:https://cornerstoneministries.ca/event/quest-23/
LOCATION:Cornerstone Ministries\, 131 new hope drive\, Crystal City\, manitoba\, r0k 0n0\, Canada
CATEGORIES:Quest
END:VEVENT
END:VCALENDAR