BEGIN:VCALENDAR
VERSION:2.0
PRODID:-//Cornerstone Ministries - ECPv4.6.22.1//NONSGML v1.0//EN
CALSCALE:GREGORIAN
METHOD:PUBLISH
X-WR-CALNAME:Cornerstone Ministries
X-ORIGINAL-URL:https://cornerstoneministries.ca
X-WR-CALDESC:Events for Cornerstone Ministries
BEGIN:VEVENT
DTSTART;TZID=America/Winnipeg:20221109T154500
DTEND;TZID=America/Winnipeg:20221109T171500
DTSTAMP:20260421T014256
CREATED:20221022T210030Z
LAST-MODIFIED:20221022T210030Z
UID:5717-1668008700-1668014100@cornerstoneministries.ca
SUMMARY:Quest
DESCRIPTION:Anyone in grade 4-6 welcome to come down for a fun time of Bible study\, games\, and hanging out with friends \n
URL:https://cornerstoneministries.ca/event/quest-18/
LOCATION:Cornerstone Ministries\, 131 new hope drive\, Crystal City\, manitoba\, r0k 0n0\, Canada
CATEGORIES:Quest
END:VEVENT
END:VCALENDAR