BEGIN:VCALENDAR
VERSION:2.0
PRODID:-//Cornerstone Ministries - ECPv4.6.22.1//NONSGML v1.0//EN
CALSCALE:GREGORIAN
METHOD:PUBLISH
X-WR-CALNAME:Cornerstone Ministries
X-ORIGINAL-URL:https://cornerstoneministries.ca
X-WR-CALDESC:Events for Cornerstone Ministries
BEGIN:VEVENT
DTSTART;TZID=America/Winnipeg:20220924T080000
DTEND;TZID=America/Winnipeg:20220924T170000
DTSTAMP:20260423T085655
CREATED:20220907T175602Z
LAST-MODIFIED:20220907T175602Z
UID:5617-1664006400-1664038800@cornerstoneministries.ca
SUMMARY:PVBC Ride-a-thon
DESCRIPTION:For those of you that enjoy horseback riding\, this is the event for you!  On September 24\, come enjoy a day of trail riding through the Pembina Valley to help fundraise for our horse program.  Lunch and supper will be provided.  Contact the camp to register. \n
URL:https://cornerstoneministries.ca/event/pvbc-ride-a-thon/
LOCATION:Pembina Valley Bible Camp
CATEGORIES:Community Events
END:VEVENT
END:VCALENDAR