BEGIN:VCALENDAR
VERSION:2.0
PRODID:-//Cornerstone Ministries - ECPv4.6.22.1//NONSGML v1.0//EN
CALSCALE:GREGORIAN
METHOD:PUBLISH
X-WR-CALNAME:Cornerstone Ministries
X-ORIGINAL-URL:https://cornerstoneministries.ca
X-WR-CALDESC:Events for Cornerstone Ministries
BEGIN:VEVENT
DTSTART;VALUE=DATE:20230915
DTEND;VALUE=DATE:20230917
DTSTAMP:20260419T122615
CREATED:20230909T030004Z
LAST-MODIFIED:20230909T030004Z
UID:6255-1694736000-1694908799@cornerstoneministries.ca
SUMMARY:PVBC Ride-a-thon
DESCRIPTION:
URL:https://cornerstoneministries.ca/event/pvbc-ride-a-thon-2/
LOCATION:Pembina Valley Bible Camp
CATEGORIES:Special Events
END:VEVENT
END:VCALENDAR