BEGIN:VCALENDAR
VERSION:2.0
PRODID:-//Cornerstone Ministries - ECPv4.6.22.1//NONSGML v1.0//EN
CALSCALE:GREGORIAN
METHOD:PUBLISH
X-WR-CALNAME:Cornerstone Ministries
X-ORIGINAL-URL:https://cornerstoneministries.ca
X-WR-CALDESC:Events for Cornerstone Ministries
BEGIN:VEVENT
DTSTART;TZID=America/Winnipeg:20220206T140000
DTEND;TZID=America/Winnipeg:20220206T190000
DTSTAMP:20260425T023535
CREATED:20220129T050201Z
LAST-MODIFIED:20220129T050201Z
UID:4200-1644156000-1644174000@cornerstoneministries.ca
SUMMARY:PVBC Family Winter Fun Day
DESCRIPTION:Pembina Valley Bible Camp is hosting a Family Winter Fun Day on February 6th from 2:00-7:00 pm.  Winter activities include a:  Tube Run\, Hockey Rink (2-5 Skating\, 5-7 Hockey)\, Interactive Family Hike and Camp Fires.  Feel free to bring hotdogs and stay for supper.  Cost is $15/person (age 6 & up) or $60 family rate.  Check out pembinavalleybiblecamp.com for more info. \n
URL:https://cornerstoneministries.ca/event/pvbc-family-winter-fun-day/
LOCATION:Pembina Valley Bible Camp
CATEGORIES:Special Events
END:VEVENT
END:VCALENDAR