BEGIN:VCALENDAR
VERSION:2.0
PRODID:-//Cornerstone Ministries - ECPv4.6.22.1//NONSGML v1.0//EN
CALSCALE:GREGORIAN
METHOD:PUBLISH
X-WR-CALNAME:Cornerstone Ministries
X-ORIGINAL-URL:https://cornerstoneministries.ca
X-WR-CALDESC:Events for Cornerstone Ministries
BEGIN:VEVENT
DTSTART;TZID=America/Winnipeg:20220911T140000
DTEND;TZID=America/Winnipeg:20220911T190000
DTSTAMP:20260423T101409
CREATED:20220907T175522Z
LAST-MODIFIED:20220907T175522Z
UID:5615-1662904800-1662922800@cornerstoneministries.ca
SUMMARY:PVBC Fall Festival
DESCRIPTION:Come for a fun day of camp activities\, face painting\, balloon animals and a BBQ supper by donation on September 11 starting at 2:00 pm. \n
URL:https://cornerstoneministries.ca/event/pvbc-fall-festival/
LOCATION:Pembina Valley Bible Camp
CATEGORIES:Community Events
END:VEVENT
END:VCALENDAR