BEGIN:VCALENDAR
VERSION:2.0
PRODID:-//Cornerstone Ministries - ECPv4.6.22.1//NONSGML v1.0//EN
CALSCALE:GREGORIAN
METHOD:PUBLISH
X-WR-CALNAME:Cornerstone Ministries
X-ORIGINAL-URL:https://cornerstoneministries.ca
X-WR-CALDESC:Events for Cornerstone Ministries
BEGIN:VEVENT
DTSTART;VALUE=DATE:20230310
DTEND;VALUE=DATE:20230312
DTSTAMP:20260421T002325
CREATED:20230305T035533Z
LAST-MODIFIED:20230305T035533Z
UID:5998-1678406400-1678579199@cornerstoneministries.ca
SUMMARY:Promise Keepers Conference
DESCRIPTION:Men\, please consider attending Promise Keepers IMACTUS conference at the Church of the Rock in Winnipeg on March 10 & 11.  Come be blessed!  Please sign up at the back or contact Paul Friesen. (Paul1953Friesen@outlook.com.)   \n
URL:https://cornerstoneministries.ca/event/promise-keepers-conference-2/
LOCATION:Church of the Rock\, 1397 Buffalo Pl\, Winnipeg\, MB\, R3T1L6\, Canada
CATEGORIES:Mens Ministries
END:VEVENT
END:VCALENDAR